BEGIN:VCALENDAR
VERSION:2.0
PRODID:-//eventon.com NONSGML v1.0//EN
CALSCALE:GREGORIAN
METHOD:PUBLISH
BEGIN:VEVENT
UID:69e8893315b82
DTSTAMP:20260422T083915Z
DTSTART:20250822T220000Z
DTEND:20250822T235900Z
LOCATION:
SUMMARY:DJ - Cassidy La Creme
DESCRIPTION:DJ - Cassidy La Creme\nhttps://pinklemonade.melbourne/events/dj
 -cassidy-la-creme/
URL:https://pinklemonade.melbourne/events/dj-cassidy-la-creme/
END:VEVENT
END:VCALENDAR